BEGIN:VCALENDAR
VERSION:2.0
PRODID:-//The American-Uzbekistan Chamber of Commerce - ECPv6.15.20//NONSGML v1.0//EN
CALSCALE:GREGORIAN
METHOD:PUBLISH
X-WR-CALNAME:The American-Uzbekistan Chamber of Commerce
X-ORIGINAL-URL:https://aucconline.com
X-WR-CALDESC:Events for The American-Uzbekistan Chamber of Commerce
REFRESH-INTERVAL;VALUE=DURATION:PT1H
X-Robots-Tag:noindex
X-PUBLISHED-TTL:PT1H
BEGIN:VTIMEZONE
TZID:UTC
BEGIN:STANDARD
TZOFFSETFROM:+0000
TZOFFSETTO:+0000
TZNAME:UTC
DTSTART:20220101T000000
END:STANDARD
END:VTIMEZONE
BEGIN:VEVENT
DTSTART;TZID=UTC:20230728T080000
DTEND;TZID=UTC:20230728T093000
DTSTAMP:20260423T044237
CREATED:20230728T114317Z
LAST-MODIFIED:20230808T055450Z
UID:655-1690531200-1690536600@aucconline.com
SUMMARY:Zoom Meeting with the Minister of Technologies of the Republic of Uzbekistan Sherzod Shermatov
DESCRIPTION:
URL:https://aucconline.com/event/zoom-meeting-with-the-minister-of-technologies-of-the-republic-of-uzbekistan-sherzod-shermatov/
END:VEVENT
END:VCALENDAR