BEGIN:VCALENDAR
VERSION:2.0
PRODID:-//The American-Uzbekistan Chamber of Commerce - ECPv6.15.20//NONSGML v1.0//EN
CALSCALE:GREGORIAN
METHOD:PUBLISH
X-WR-CALNAME:The American-Uzbekistan Chamber of Commerce
X-ORIGINAL-URL:https://aucconline.com
X-WR-CALDESC:Events for The American-Uzbekistan Chamber of Commerce
REFRESH-INTERVAL;VALUE=DURATION:PT1H
X-Robots-Tag:noindex
X-PUBLISHED-TTL:PT1H
BEGIN:VTIMEZONE
TZID:UTC
BEGIN:STANDARD
TZOFFSETFROM:+0000
TZOFFSETTO:+0000
TZNAME:UTC
DTSTART:20220101T000000
END:STANDARD
END:VTIMEZONE
BEGIN:VEVENT
DTSTART;TZID=UTC:20230626T140000
DTEND;TZID=UTC:20230626T153000
DTSTAMP:20260423T063214
CREATED:20230727T115416Z
LAST-MODIFIED:20230808T055451Z
UID:641-1687788000-1687793400@aucconline.com
SUMMARY:Afternoon Tea Discussion with Nozimakhon Davletova on Prevention of Domestic Violence in Uzbekistan Through Economic Empowerment with Änjali Kaur Delivering Opening Remarks
DESCRIPTION:
URL:https://aucconline.com/event/afternoon-tea-discussion-with-nozimakhon-davletova-on-prevention-of-domestic-violence-in-uzbekistan-through-economic-empowerment-with-anjali-kaur-delivering-opening-remarks/
END:VEVENT
END:VCALENDAR