BEGIN:VCALENDAR
VERSION:2.0
PRODID:-//The American-Uzbekistan Chamber of Commerce - ECPv6.15.20//NONSGML v1.0//EN
CALSCALE:GREGORIAN
METHOD:PUBLISH
X-WR-CALNAME:The American-Uzbekistan Chamber of Commerce
X-ORIGINAL-URL:https://aucconline.com
X-WR-CALDESC:Events for The American-Uzbekistan Chamber of Commerce
REFRESH-INTERVAL;VALUE=DURATION:PT1H
X-Robots-Tag:noindex
X-PUBLISHED-TTL:PT1H
BEGIN:VTIMEZONE
TZID:UTC
BEGIN:STANDARD
TZOFFSETFROM:+0000
TZOFFSETTO:+0000
TZNAME:UTC
DTSTART:20220101T000000
END:STANDARD
END:VTIMEZONE
BEGIN:VEVENT
DTSTART;TZID=UTC:20230622T120000
DTEND;TZID=UTC:20230622T223000
DTSTAMP:20260423T114052
CREATED:20230728T114019Z
LAST-MODIFIED:20230808T055451Z
UID:650-1687435200-1687473000@aucconline.com
SUMMARY:Private/ off-the-record lunch meeting with Deputy Prime Minister of the Republic of Uzbekistan H.E. Jamshid Khodjaev
DESCRIPTION:
URL:https://aucconline.com/event/private-off-the-record-lunch-meeting-with-deputy-prime-minister-of-the-republic-of-uzbekistan-h-e-jamshid-khodjaev/
END:VEVENT
END:VCALENDAR